BEGIN:VCALENDAR
VERSION:2.0
PRODID:-//ChamberMaster//Event Calendar 2.0//EN
METHOD:PUBLISH
X-PUBLISHED-TTL:P3D
REFRESH-INTERVAL:P3D
CALSCALE:GREGORIAN
BEGIN:VEVENT
DTSTART:20241012T150000Z
DTEND:20241012T220000Z
X-MICROSOFT-CDO-ALLDAYEVENT:FALSE
SUMMARY:2024 Baldwin County Home Builders Association Parade of Homes
DESCRIPTION:Join us for the 35th annual Parade of Homes brought to you by the Baldwin County Home Builders Association. The 2024 BCHBA Parade of Homes is a free tour of the works of our local builders and for everyone looking for inspiration on the latest building trends. This event has long-standing tradition of displaying a variety of homes in our growing market and introducing excitiing new trends.
X-ALT-DESC;FMTTYPE=text/html:Join us for the 35th annual Parade of Homes brought to you by the Baldwin County Home Builders Association. The 2024 BCHBA Parade of Homes is a free tour of the works of our local builders and for everyone looking for inspiration on the latest building trends. This event has long-standing tradition of displaying a variety of homes in our growing market and introducing excitiing new trends.
LOCATION:Throughout Baldwin County
UID:e.1304.33657
SEQUENCE:3
DTSTAMP:20260425T165505Z
URL:http://business.eschamber.org/events/details/2024-baldwin-county-home-builders-association-parade-of-homes-33657
END:VEVENT

END:VCALENDAR
