BEGIN:VCALENDAR
VERSION:2.0
PRODID:-//ChamberMaster//Event Calendar 2.0//EN
METHOD:PUBLISH
X-PUBLISHED-TTL:P3D
REFRESH-INTERVAL:P3D
CALSCALE:GREGORIAN
BEGIN:VEVENT
DTSTART:20241209T000000Z
DTEND:20241209T020000Z
X-MICROSOFT-CDO-ALLDAYEVENT:FALSE
SUMMARY:2024 Toys for Tots
DESCRIPTION:Starting Wednesday\, Nov. 13\, 2024\, the Original Oyster House restaurants are a drop site for Toys for Tots\, our Nation's flagship children's Christmastime charity.  While having lunch or dinner\, drop off a toy for a special child because finding a present under the tree on Christmas morning is an experience every child deserves.  The collection event culminates on Sunday\, December 8th when our local US Marines will join us at the Mobile Causeway location from 6PM to 8PM.  The US Marines\, in their dress blues\, will pick up donated toys\, take photos with your family and wish everyone a happy Christmas.  If you are interested in participating\, please drop off an unwrapped toy\, gift card or consider donating by check to Toys for Tots.  You can place donation items in the Toys for Tots collection box at the Mobile Causeway or Gulf Shores restaurants.  Both locations also have gift shops.  All donations will be distributed locally to needy children.
X-ALT-DESC;FMTTYPE=text/html:Starting Wednesday\, Nov. 13\, 2024\, the Original Oyster House restaurants are a drop site for Toys for Tots\, our Nation&#39\;s flagship children&#39\;s Christmastime charity.&nbsp\; While having lunch or dinner\, drop off a toy for a special child because finding a present under the tree on Christmas morning is an experience every child deserves.&nbsp\; The collection event culminates on Sunday\, December 8th when our local US Marines will join us at the Mobile Causeway location from 6PM to 8PM.&nbsp\; The US Marines\, in their dress blues\, will pick up donated toys\, take photos with your family and wish everyone a happy Christmas.&nbsp\; If you are interested in participating\, please drop off an unwrapped toy\, gift card or consider donating by check to Toys for Tots.&nbsp\; You can place donation items in the Toys for Tots collection box at the Mobile Causeway or Gulf Shores restaurants.&nbsp\; Both locations also have gift shops.&nbsp\; All donations will be distributed locally to needy children.
LOCATION:Original Oyster House\, 3733 Battleship Parkway on the Causeway
UID:e.1304.35971
SEQUENCE:3
DTSTAMP:20260425T123708Z
URL:http://business.eschamber.org/events/details/2024-toys-for-tots-35971
END:VEVENT

END:VCALENDAR
