BEGIN:VCALENDAR
VERSION:2.0
PRODID:-//ChamberMaster//Event Calendar 2.0//EN
METHOD:PUBLISH
X-PUBLISHED-TTL:P3D
REFRESH-INTERVAL:P3D
CALSCALE:GREGORIAN
BEGIN:VEVENT
DTSTART:20240912T140000Z
DTEND:20240912T220000Z
X-MICROSOFT-CDO-ALLDAYEVENT:FALSE
SUMMARY:27th Annual Celebrity Golf Tournament
DESCRIPTION:This event is more than just a day of golf\; it's an opportunity to join a community committed to making a difference.  Your participation will support our mission to expand Women's Health Services\, particularly in rural areas with limited healthcare access\, and to establish an endowment scholarship for Nursing Schools in Mobile and surrounding areas.\n\n\n\nMembers can easily register or make a donation online by visiting franklinprimary.org.
X-ALT-DESC;FMTTYPE=text/html:This event is more than just a day of golf\; it&#39\;s an opportunity to join a community committed to making a difference.&nbsp\; Your participation will support our mission to expand Women&#39\;s Health Services\, particularly in rural areas with limited healthcare access\, and to establish an endowment scholarship for Nursing Schools in Mobile and surrounding areas.<br />\n<br />\nMembers can easily register or make a donation online by visiting franklinprimary.org.&nbsp\;&nbsp\;
LOCATION:Robert Trent Jones Magnolia Grove Golf Course\, 7001 Magnolia Grove Parkway\, Mobile\, Alabama
UID:e.1304.34149
SEQUENCE:3
DTSTAMP:20260425T182028Z
URL:http://business.eschamber.org/events/details/27th-annual-celebrity-golf-tournament-34149
END:VEVENT

END:VCALENDAR
