BEGIN:VCALENDAR
VERSION:2.0
PRODID:-//ChamberMaster//Event Calendar 2.0//EN
METHOD:PUBLISH
X-PUBLISHED-TTL:P3D
REFRESH-INTERVAL:P3D
CALSCALE:GREGORIAN
BEGIN:VEVENT
DTSTART:20240921T130000Z
DTEND:20240921T170000Z
X-MICROSOFT-CDO-ALLDAYEVENT:FALSE
SUMMARY:37th Alabama Coastal Cleanup
DESCRIPTION:It's time to get outside with family and friends in order to gather and participate in the annual Alabama Coastal Cleanup. Be a part of the state's largest single-day volunteer cleanup event. It happens every year on the third Saturday of September\, rain or shine. Since 1987\, more than 110\,000 volunteers have removed over 889 tons of trash from our valued coastline and waterways. There are multiple zones in which to participate. Find one near you and help keep Alabama beautiful by "getting the Trash out of the Splash".
X-ALT-DESC;FMTTYPE=text/html:It&#39\;s time to get outside with family and friends in order to gather and participate in the annual Alabama Coastal Cleanup. Be a part of the state&#39\;s largest single-day volunteer cleanup event. It happens every year on the third Saturday of September\, rain or shine. Since 1987\, more than 110\,000 volunteers have removed over 889 tons of trash from our valued coastline and waterways. There are multiple zones in which to participate. Find one near you and help keep Alabama beautiful by &quot\;getting the Trash out of the Splash&quot\;.
LOCATION:multiple locations
UID:e.1304.34171
SEQUENCE:3
DTSTAMP:20260425T182030Z
URL:http://business.eschamber.org/events/details/37th-alabama-coastal-cleanup-34171
END:VEVENT

END:VCALENDAR
