BEGIN:VCALENDAR
VERSION:2.0
PRODID:-//ChamberMaster//Event Calendar 2.0//EN
METHOD:PUBLISH
X-PUBLISHED-TTL:P3D
REFRESH-INTERVAL:P3D
CALSCALE:GREGORIAN
BEGIN:VEVENT
DTSTART:20241108T150000Z
DTEND:20241109T000000Z
X-MICROSOFT-CDO-ALLDAYEVENT:FALSE
SUMMARY:4th Annual BCH Golf Classic
DESCRIPTION:Fundraising golf event benefitting children in foster care in our community and others throughout the state. All contributions are tax-deductible and support the services and programs offered through the Children's Aid Society of Alabama. Entry fees include breakfast and lunch as well as 18-holes of golf. Awards will be presented to the 1st\, 2nd\, and 3rd place teams. Hole-in-One Contests\, Putting Contest and other opportunity to win amazing prizes will be offered.
X-ALT-DESC;FMTTYPE=text/html:Fundraising golf event benefitting children in foster care in our community and others throughout the state. All contributions are tax-deductible and support the services and programs offered through the Children&#39\;s Aid Society of Alabama. Entry fees include breakfast and lunch as well as 18-holes of golf. Awards will be presented to the 1st\, 2nd\, and 3rd place teams. Hole-in-One Contests\, Putting Contest and other opportunity to win amazing prizes will be offered.
LOCATION:Rock Creek Golf Club 140 Clubhouse Drive Fairhope\, AL 36532
UID:e.1304.35766
SEQUENCE:3
DTSTAMP:20260425T152630Z
URL:http://business.eschamber.org/events/details/4th-annual-bch-golf-classic-35766
END:VEVENT

END:VCALENDAR
