BEGIN:VCALENDAR
VERSION:2.0
PRODID:-//ChamberMaster//Event Calendar 2.0//EN
METHOD:PUBLISH
X-PUBLISHED-TTL:P3D
REFRESH-INTERVAL:P3D
CALSCALE:GREGORIAN
BEGIN:VEVENT
DTSTART:20260122T133000Z
DTEND:20260122T230000Z
X-MICROSOFT-CDO-ALLDAYEVENT:FALSE
SUMMARY:4th Annual Chasing Greatness
DESCRIPTION:68 Ventures is proud to present the 4th annual Chasing Greatness   a leadership and entrepreneurship summit taking place Thursday\, January 22\, 2026\, at the Mobile Area Convention Center (1 S. Water Street\, Mobile\, AL).\n\nThe day-long event will convene leaders\, visionaries\, and change-makers for a conference built around growth\, purpose\, and service.\n\n\n\nChasing Greatness is not a conference for the faint of heart   it's a leadership revolution. Attendees don't come to be honored\, but to be sharpened. With a bold mix of keynote presentations\, conversations\, and networking opportunities\, this event challenges participants to step out of comfort zone take bold risks\, and lead from a place of service\, humility\, and resilience. As 68 Ventures puts it\, "greatness isn't measured by titles or trophies\, but by the lives we touch and the legacy we leave."\n\nWhat to Expect\n\n  Unfiltered insights from leaders who have built companies\, weathered failures\, and led with tenacity\, courage\, and integrity\n\n  Authentic connections with entrepreneurs and leaders who share your drive to grow\, serve\, and move the needle\n\n  Transformational content that challenges you to lead with purpose\, embrace adversity\, and scale your influence beyond business "Bet on You" is the rallying cry for 2026.\n\nWhether you come as a team or as an individual\, Chasing Greatness calls on each participant to invest in their potential and to own the responsibility of leadership.
X-ALT-DESC;FMTTYPE=text/html:68 Ventures is proud to present the 4th annual Chasing Greatness &mdash\; a leadership and entrepreneurship summit taking place Thursday\, January 22\, 2026\, at the Mobile Area Convention Center (1 S. Water Street\, Mobile\, AL).<br />\nThe day-long event will convene leaders\, visionaries\, and change-makers for a conference built around growth\, purpose\, and service.<br />\n<br />\nChasing Greatness is not a conference for the faint of heart &mdash\; it&rsquo\;s a leadership revolution. Attendees don&rsquo\;t come to be honored\, but to be sharpened. With a bold mix of keynote presentations\, conversations\, and networking opportunities\, this event challenges participants to step out of comfort zone&nbsp\;take bold risks\, and lead from a place of service\, humility\, and resilience. As 68 Ventures puts it\, &ldquo\;greatness isn&rsquo\;t measured by titles or trophies\, but by the lives we touch and the legacy we leave.&rdquo\;<br />\nWhat to Expect<br />\n&bull\; Unfiltered insights from leaders who have built companies\, weathered failures\, and led with tenacity\, courage\, and integrity<br />\n&bull\; Authentic connections with entrepreneurs and leaders who share your drive to grow\, serve\, and move the needle<br />\n&bull\; Transformational content that challenges you to lead with purpose\, embrace adversity\, and scale your influence beyond business &ldquo\;Bet on You&rdquo\; is the rallying cry for 2026.<br />\nWhether you come as a team or as an individual\, Chasing Greatness calls on each participant to invest in their potential and to own the responsibility of leadership.
LOCATION:Mobile Convention Center 1 S. Water Street Mobile\, AL
UID:e.1304.39813
SEQUENCE:3
DTSTAMP:20260422T134749Z
URL:http://business.eschamber.org/events/details/4th-annual-chasing-greatness-39813
END:VEVENT

END:VCALENDAR
