BEGIN:VCALENDAR
VERSION:2.0
PRODID:-//ChamberMaster//Event Calendar 2.0//EN
METHOD:PUBLISH
X-PUBLISHED-TTL:P3D
REFRESH-INTERVAL:P3D
CALSCALE:GREGORIAN
BEGIN:VEVENT
DTSTART:20241108T000000Z
DTEND:20241108T030000Z
X-MICROSOFT-CDO-ALLDAYEVENT:FALSE
SUMMARY:A Night Honoring Healers
DESCRIPTION:A Night Honoring Healers\, presented by the USA Foundation\, is an inspiring evening honoring the remarkable stories of our USA Health care team members in action as they provide exceptional\, compassionate care to our patients. USA Health is transforming medicine through its tripartite mission of education\, research and outreach within our community and beyond. Join us as our community comes together to celebrate our USA Health Healers and pay tribute to the courageous journeys of our patients.
X-ALT-DESC;FMTTYPE=text/html:A Night Honoring Healers\, presented by the USA Foundation\, is an inspiring evening honoring the remarkable stories of our USA Health care team members in action as they provide exceptional\, compassionate care to our patients. USA Health is transforming medicine through its tripartite mission of education\, research and outreach within our community and beyond. Join us as our community comes together to celebrate our USA Health Healers and pay tribute to the courageous journeys of our patients.
LOCATION:Arthur R. Outlaw Mobile Convention Center
UID:e.1304.35727
SEQUENCE:3
DTSTAMP:20260425T152654Z
URL:http://business.eschamber.org/events/details/a-night-honoring-healers-35727
END:VEVENT

END:VCALENDAR
