BEGIN:VCALENDAR
VERSION:2.0
PRODID:-//ChamberMaster//Event Calendar 2.0//EN
METHOD:PUBLISH
X-PUBLISHED-TTL:P3D
REFRESH-INTERVAL:P3D
CALSCALE:GREGORIAN
BEGIN:VEVENT
DTSTART:20240511T230000Z
DTEND:20240512T020000Z
X-MICROSOFT-CDO-ALLDAYEVENT:FALSE
SUMMARY:A Night Under the Stars
DESCRIPTION:
X-ALT-DESC;FMTTYPE=text/html:
LOCATION:Eastern Shore Centre 30500 Hwy 181 Spanish Fort\, AL
UID:e.1304.31294
SEQUENCE:3
DTSTAMP:20260425T233450Z
URL:http://business.eschamber.org/events/details/a-night-under-the-stars-05-11-2024-31294
END:VEVENT

END:VCALENDAR
