BEGIN:VCALENDAR
VERSION:2.0
PRODID:-//ChamberMaster//Event Calendar 2.0//EN
METHOD:PUBLISH
X-PUBLISHED-TTL:P3D
REFRESH-INTERVAL:P3D
CALSCALE:GREGORIAN
BEGIN:VEVENT
DTSTART:20240316T230000Z
DTEND:20240317T010000Z
X-MICROSOFT-CDO-ALLDAYEVENT:FALSE
SUMMARY:A Night Under the Stars
DESCRIPTION:You asked for unique fun that's budget friendly. FREE FUN FOR THE FAMILY!! We have partnered with Mobile Astronomical Society to bringing you a stargazing event on Saturday\, March 16. Join us for a Night Under the Stars. Through multiple telescopes\, provided by MAS\, you'll be able to view the moon\, the stars\, constellations\, and planets. Have a telescope? Bring it with you!
X-ALT-DESC;FMTTYPE=text/html:You asked for unique fun that&rsquo\;s budget friendly. FREE FUN FOR THE FAMILY!! We have partnered with Mobile Astronomical Society to bringing you a stargazing event on Saturday\, March 16. Join us for a Night Under the Stars. Through multiple telescopes\, provided by MAS\, you&rsquo\;ll be able to view the moon\, the stars\, constellations\, and planets. Have a telescope? Bring it with you!
LOCATION:Eastern Shore Centre\, 30500 Hwy 181\, Spanish Fort\, AL
UID:e.1304.30035
SEQUENCE:3
DTSTAMP:20260426T021826Z
URL:http://business.eschamber.org/events/details/a-night-under-the-stars-30035
END:VEVENT

END:VCALENDAR
