BEGIN:VCALENDAR
VERSION:2.0
PRODID:-//ChamberMaster//Event Calendar 2.0//EN
METHOD:PUBLISH
X-PUBLISHED-TTL:P3D
REFRESH-INTERVAL:P3D
CALSCALE:GREGORIAN
BEGIN:VEVENT
DTSTART:20240608T230000Z
DTEND:20240609T030000Z
X-MICROSOFT-CDO-ALLDAYEVENT:FALSE
SUMMARY:ACCF 5th Annual Masquerade Ball
DESCRIPTION:Anchor Cross Cancer Foundation invites you to "mask out" cancer for one night at this fundraising event\, as we celebrate local cancer survivors and those still fighting. Music from Journey 2 Mars\; Dinner from Sheepshead Eats\; Specialty drink from The Hope Farm\; Live & Silent Auctions. Complimentary ticket for cancer patients in treatment.
X-ALT-DESC;FMTTYPE=text/html:Anchor Cross Cancer Foundation invites you to &ldquo\;mask out&rdquo\; cancer for one night at this fundraising event\, as we celebrate local cancer survivors and those still fighting. Music from Journey 2 Mars\; Dinner from Sheepshead Eats\; Specialty drink from The Hope Farm\; Live &amp\; Silent Auctions. Complimentary ticket for cancer patients in treatment.
LOCATION:Daphne Civic Center 2603 US-98
UID:e.1304.31324
SEQUENCE:3
DTSTAMP:20260425T220915Z
URL:http://business.eschamber.org/events/details/accf-5th-annual-masquerade-ball-31324
END:VEVENT

END:VCALENDAR
