BEGIN:VCALENDAR
VERSION:2.0
PRODID:-//ChamberMaster//Event Calendar 2.0//EN
METHOD:PUBLISH
X-PUBLISHED-TTL:P3D
REFRESH-INTERVAL:P3D
CALSCALE:GREGORIAN
BEGIN:VEVENT
DTSTART:20240303T180000Z
DTEND:20240303T220000Z
X-MICROSOFT-CDO-ALLDAYEVENT:FALSE
SUMMARY:Alabama Authors Day One-Hour Cruises
DESCRIPTION:Join us during Alabama Authors Day for one of our one-hour cruises into the scenic Mobile-Tensaw Delta!
X-ALT-DESC;FMTTYPE=text/html:Join us during Alabama Authors Day for one of our one-hour cruises into the scenic Mobile-Tensaw Delta!
LOCATION:Bartram Landing at Five Rivers Delta Resource Center
UID:e.1304.29899
SEQUENCE:3
DTSTAMP:20260426T022020Z
URL:http://business.eschamber.org/events/details/alabama-authors-day-one-hour-cruises-29899
END:VEVENT

END:VCALENDAR
