BEGIN:VCALENDAR
VERSION:2.0
PRODID:-//ChamberMaster//Event Calendar 2.0//EN
METHOD:PUBLISH
X-PUBLISHED-TTL:P3D
REFRESH-INTERVAL:P3D
CALSCALE:GREGORIAN
BEGIN:VEVENT
DTSTART:20240422T220000Z
DTEND:20240424T170000Z
X-MICROSOFT-CDO-ALLDAYEVENT:FALSE
SUMMARY:Alabama Master Gardener Association Conference
DESCRIPTION:Baldwin County Master Gardeners are hosting the state conference at Daphne Civic Center. Conference focus is adaptive gardening for mature and mobility challenged gardeners. Speakers and workshops for training and resources covering multiple gardening topics. Future outreach is expected to educate many thousands of Alabama citizens. Baldwin County Master Gardeners are fundraising to support expenses for the event.
X-ALT-DESC;FMTTYPE=text/html:Baldwin County Master Gardeners are hosting the state conference at Daphne Civic Center. Conference focus is adaptive gardening for mature and mobility challenged gardeners. Speakers and workshops for training and resources covering multiple gardening topics. Future outreach is expected to educate many thousands of Alabama citizens. Baldwin County Master Gardeners are fundraising to support expenses for the event.
LOCATION:Daphne Civic Center
UID:e.1304.28057
SEQUENCE:3
DTSTAMP:20260426T005357Z
URL:http://business.eschamber.org/events/details/alabama-master-gardener-association-conference-28057
END:VEVENT

END:VCALENDAR
