BEGIN:VCALENDAR
VERSION:2.0
PRODID:-//ChamberMaster//Event Calendar 2.0//EN
METHOD:PUBLISH
X-PUBLISHED-TTL:P3D
REFRESH-INTERVAL:P3D
CALSCALE:GREGORIAN
BEGIN:VEVENT
DTSTART:20240519T230000Z
DTEND:20240520T020000Z
X-MICROSOFT-CDO-ALLDAYEVENT:FALSE
SUMMARY:Amalfi Sunset May Sunday Supper
DESCRIPTION:Join us for the May Sunday Supper at The Barn. The theme for the evening is "Amalfi Sunset" with a curated menu by our Executive Chef\, Adam Stephens. Seating is limited so don't wait\, make your reservation today! Dinner Menu: Appetizers Fritto Misto d'mare Pizza Nepolitana Main Features Pasta ala Vongole   Clams | lemon | colatura butter | chitarra Whole Roasted Gulf Fish   blistered tomatoes | Garlic | capers | Herbs | Olive oil Sides Insalata Caprese   House pulled mozzarella | Local Tomato | Garden Basil | Lemon infused Balsamic House made Bread   Olive oil | anchovy | pistachio | Calabrian chili Dessert Delizia al limon
X-ALT-DESC;FMTTYPE=text/html:Join us for the May Sunday Supper at The Barn. The theme for the evening is &ldquo\;Amalfi Sunset&rdquo\; with a curated menu by our Executive Chef\, Adam Stephens. Seating is limited so don&rsquo\;t wait\, make your reservation today! Dinner Menu: Appetizers Fritto Misto d&rsquo\;mare Pizza Nepolitana Main Features Pasta ala Vongole &ndash\; Clams | lemon | colatura butter | chitarra Whole Roasted Gulf Fish &ndash\; blistered tomatoes | Garlic | capers | Herbs | Olive oil Sides Insalata Caprese &ndash\; House pulled mozzarella | Local Tomato | Garden Basil | Lemon infused Balsamic House made Bread &ndash\; Olive oil | anchovy | pistachio | Calabrian chili Dessert Delizia al limon
LOCATION:The Barn at The Hope Farm
UID:e.1304.31330
SEQUENCE:3
DTSTAMP:20260425T233423Z
URL:http://business.eschamber.org/events/details/amalfi-sunset-may-sunday-supper-31330
END:VEVENT

END:VCALENDAR
