BEGIN:VCALENDAR
VERSION:2.0
PRODID:-//ChamberMaster//Event Calendar 2.0//EN
METHOD:PUBLISH
X-PUBLISHED-TTL:P3D
REFRESH-INTERVAL:P3D
CALSCALE:GREGORIAN
BEGIN:VEVENT
DTSTART:20240330T130000Z
DTEND:20240330T170000Z
X-MICROSOFT-CDO-ALLDAYEVENT:FALSE
SUMMARY:American Battlefield Trust Park Day
DESCRIPTION:For this year's observance of the American Battlefield Trust's national Park Day\, Historic Blakeley State Park is hosting a special volunteer public archaeology day. Be a part of this unique opportunity to assist professional archaeologists in a thorough documentation of a part of Fort Blakeley known as "Redoubt 3\," recently acquired by the Historic Blakeley Foundation. This is an original portion of the Confederate defensive line constructed 1864-1865. The site is located just off of Cloverleaf Landing Road. From the main park entrance\, go north 1.75 miles on Hwy. 225. Turn left onto Cloverleaf Landing Road\, and proceed 1.4 miles to Cloverleaf Landing Road West (a private drive)\, This event is part of the American Battlefield Trust's Park Day.
X-ALT-DESC;FMTTYPE=text/html:For this year&rsquo\;s observance of the American Battlefield Trust&rsquo\;s national Park Day\, Historic Blakeley State Park is hosting a special volunteer public archaeology day. Be a part of this unique opportunity to assist professional archaeologists in a thorough documentation of a part of Fort Blakeley known as &ldquo\;Redoubt 3\,&rdquo\; recently acquired by the Historic Blakeley Foundation. This is an original portion of the Confederate defensive line constructed 1864-1865. The site is located just off of Cloverleaf Landing Road. From the main park entrance\, go north 1.75 miles on Hwy. 225. Turn left onto Cloverleaf Landing Road\, and proceed 1.4 miles to Cloverleaf Landing Road West (a private drive)\, This event is part of the American Battlefield Trust&#39\;s Park Day.
LOCATION:The site is located just off of Cloverleaf Landing Road. From the main park entrance\, go north 1.75 miles on Hwy. 225. Turn left onto Cloverleaf Landing Road\, and proceed 1.4 miles to Cloverleaf Landing Road West (a private drive)\,
UID:e.1304.29908
SEQUENCE:3
DTSTAMP:20260426T022041Z
URL:http://business.eschamber.org/events/details/american-battlefield-trust-park-day-29908
END:VEVENT

END:VCALENDAR
