BEGIN:VCALENDAR
VERSION:2.0
PRODID:-//ChamberMaster//Event Calendar 2.0//EN
METHOD:PUBLISH
X-PUBLISHED-TTL:P3D
REFRESH-INTERVAL:P3D
CALSCALE:GREGORIAN
BEGIN:VEVENT
DTSTART:20240402T230000Z
DTEND:20240403T020000Z
X-MICROSOFT-CDO-ALLDAYEVENT:FALSE
SUMMARY:Andy Andrews at BILL-E's
DESCRIPTION:
X-ALT-DESC;FMTTYPE=text/html:
LOCATION:
UID:e.1304.30086
SEQUENCE:3
DTSTAMP:20260426T005228Z
URL:http://business.eschamber.org/events/details/andy-andrews-at-bill-e-s-30086
END:VEVENT

END:VCALENDAR
