BEGIN:VCALENDAR
VERSION:2.0
PRODID:-//ChamberMaster//Event Calendar 2.0//EN
METHOD:PUBLISH
X-PUBLISHED-TTL:P3D
REFRESH-INTERVAL:P3D
CALSCALE:GREGORIAN
BEGIN:VEVENT
DTSTART:20241016T220000Z
DTEND:20241017T000000Z
X-MICROSOFT-CDO-ALLDAYEVENT:FALSE
SUMMARY:Annual Multi-Chamber Social
DESCRIPTION:The Perdido Key Area Chamber of Commerce invites all our local Gulf Coast Chambers of Commerce members and guests to join us for an unforgettable evening of networking\, collaboration\, and community building at the iconic Flora-Bama on October 16th from 5:00 PM - 7:00 PM! This Annual Multi-Chamber Business After Hours brings together business leaders\, professionals\, and chamber members from our local chamber community for a unique opportunity to foster connections\, exchange ideas\, and strengthen partnerships. Details: Date: October 16\, 2024 Time: 5:00 PM   7:00 PM Location: Flora-Bama Lounge\, Package\, & Oyster Bar   Main Tent Address: 17401 Perdido Key Drive Perdido Key\, FL 32507 Whether you're a longtime chamber member or new to the scene\, this event is an excellent way to expand your professional network and engage with other like-minded professionals in a fun and laid-back environment. Bring plenty of business cards and get ready to make lasting connections! Door prizes are always welcome and encouraged! Registration: Admission is free for all chamber members. Registration is requested to help our hosts provide an accurate headcount. For more information\, contact the Perdido Key Area Chamber of Commerce at (850) 492-4660 or membership@perdidochamber.com. We look forward to seeing you there for an evening of networking and community collaboration along the beautiful Gulf Coast!
X-ALT-DESC;FMTTYPE=text/html:The Perdido Key Area Chamber of Commerce invites all our local Gulf Coast Chambers of Commerce members and guests to join us for an unforgettable evening of networking\, collaboration\, and community building at the iconic Flora-Bama on October 16th from 5:00 PM - 7:00 PM! This Annual Multi-Chamber Business After Hours brings together business leaders\, professionals\, and chamber members from our local chamber community for a unique opportunity to foster connections\, exchange ideas\, and strengthen partnerships. Details: Date: October 16\, 2024 Time: 5:00 PM &ndash\; 7:00 PM Location: Flora-Bama Lounge\, Package\, &amp\; Oyster Bar &ndash\; Main Tent Address: 17401 Perdido Key Drive Perdido Key\, FL 32507 Whether you&#39\;re a longtime chamber member or new to the scene\, this event is an excellent way to expand your professional network and engage with other like-minded professionals in a fun and laid-back environment. Bring plenty of business cards and get ready to make lasting connections! Door prizes are always welcome and encouraged! Registration: Admission is free for all chamber members. Registration is requested to help our hosts provide an accurate headcount. For more information\, contact the Perdido Key Area Chamber of Commerce at (850) 492-4660 or membership@perdidochamber.com. We look forward to seeing you there for an evening of networking and community collaboration along the beautiful Gulf Coast!
LOCATION:Flora-Bama Lounge Package & Oyster Bar Main Tent Stage 17401 Perdido Key Drive Pensacola\, FL 32507.
UID:e.1304.35728
SEQUENCE:3
DTSTAMP:20260425T164715Z
URL:http://business.eschamber.org/events/details/annual-multi-chamber-social-35728
END:VEVENT

END:VCALENDAR
