BEGIN:VCALENDAR
VERSION:2.0
PRODID:-//ChamberMaster//Event Calendar 2.0//EN
METHOD:PUBLISH
X-PUBLISHED-TTL:P3D
REFRESH-INTERVAL:P3D
CALSCALE:GREGORIAN
BEGIN:VEVENT
DTSTART:20241026T130000Z
DTEND:20241026T160000Z
X-MICROSOFT-CDO-ALLDAYEVENT:FALSE
SUMMARY:Annual Prodisee Pantry Turkey Trot
DESCRIPTION:
X-ALT-DESC;FMTTYPE=text/html:
LOCATION:Old Towne Daphne
UID:e.1304.1085
SEQUENCE:3
DTSTAMP:20260425T164741Z
URL:http://business.eschamber.org/events/details/annual-prodisee-pantry-turkey-trot-1085
END:VEVENT

END:VCALENDAR
