BEGIN:VCALENDAR
VERSION:2.0
PRODID:-//ChamberMaster//Event Calendar 2.0//EN
METHOD:PUBLISH
X-PUBLISHED-TTL:P3D
REFRESH-INTERVAL:P3D
CALSCALE:GREGORIAN
BEGIN:VEVENT
DTSTART:20241109T150000Z
DTEND:20241109T190000Z
X-MICROSOFT-CDO-ALLDAYEVENT:FALSE
SUMMARY:Annual Veterans Day Program
DESCRIPTION:Schedule of Events: Civil War Artillery Demonstrations 9:00\, 10:00 and 11:00 AM and 12:00 PM Civil War on the Eastern Shore Cruise 10:00-11:30 AM Lecture by Paul Brueske\, author of Digging All Night and Fighting All Day: The Civil War Siege of Spanish Fort 12:00-1:00 PM Pat Sledge catering will be on hand with sandwiches and treats. This event is sponsored in part by the Pensacola Civil War Roundtable\, the Mobile Area Civil War Roundtable\, and the Alabama Tourism Department
X-ALT-DESC;FMTTYPE=text/html:Schedule of Events: Civil War Artillery Demonstrations 9:00\, 10:00 and 11:00 AM and 12:00 PM Civil War on the Eastern Shore Cruise 10:00-11:30 AM Lecture by Paul Brueske\, author of Digging All Night and Fighting All Day: The Civil War Siege of Spanish Fort 12:00-1:00 PM Pat Sledge catering will be on hand with sandwiches and treats. This event is sponsored in part by the Pensacola Civil War Roundtable\, the Mobile Area Civil War Roundtable\, and the Alabama Tourism Department
LOCATION:Historic Blakeley State Park
UID:e.1304.35780
SEQUENCE:3
DTSTAMP:20260425T152629Z
URL:http://business.eschamber.org/events/details/annual-veterans-day-program-11-09-2024-35780
END:VEVENT

END:VCALENDAR
