BEGIN:VCALENDAR
VERSION:2.0
PRODID:-//ChamberMaster//Event Calendar 2.0//EN
METHOD:PUBLISH
X-PUBLISHED-TTL:P3D
REFRESH-INTERVAL:P3D
CALSCALE:GREGORIAN
BEGIN:VEVENT
DTSTART:20241013T003000Z
DTEND:20241013T023000Z
X-MICROSOFT-CDO-ALLDAYEVENT:FALSE
SUMMARY:Back N Black – The Ultimate AC/DC Experience
DESCRIPTION:Get ready to ROCK OUT as Back-N-Black brings the ultimate AC/DC experience back to OWA Theater stage on October 12th! This tribute delivers a powerhouse performance with a setlist of favorites like "Thunderstruck\," "Back in Black\," "Highway to Hell\," "Hells Bells\," and many more!\n\n\n\nThis show has it all from the wild antics of lead guitarist Angus Young in his signature schoolboy uniform to the iconic tolling of Hells Bells and the thunderous roar of cannons. Get ready to feel the energy and excitement that only an AC/DC concert can deliver!\n\n\n\nTell your friends and grab your tickets today: https://visitowa.com/back-n-black/
X-ALT-DESC;FMTTYPE=text/html:Get ready to ROCK OUT as Back-N-Black brings the ultimate AC/DC experience back to OWA Theater stage on October 12<sup>th</sup>! This tribute delivers a powerhouse performance with a setlist of favorites like &ldquo\;Thunderstruck\,&rdquo\; &ldquo\;Back in Black\,&rdquo\; &ldquo\;Highway to Hell\,&rdquo\; &ldquo\;Hells Bells\,&rdquo\; and many more!<br />\n<br />\nThis show has it all&mdash\;from the wild antics of lead guitarist Angus Young in his signature schoolboy uniform to the iconic tolling of Hells Bells and the thunderous roar of cannons. Get ready to feel the energy and excitement that only an AC/DC concert can deliver!<br />\n<br />\nTell your friends and grab your tickets today:&nbsp\;https://visitowa.com/back-n-black/
LOCATION:OWA Theater
UID:e.1304.35628
SEQUENCE:3
DTSTAMP:20260425T164633Z
URL:http://business.eschamber.org/events/details/back-n-black-the-ultimate-ac-dc-experience-35628
END:VEVENT

END:VCALENDAR
