BEGIN:VCALENDAR
VERSION:2.0
PRODID:-//ChamberMaster//Event Calendar 2.0//EN
METHOD:PUBLISH
X-PUBLISHED-TTL:P3D
REFRESH-INTERVAL:P3D
CALSCALE:GREGORIAN
BEGIN:VEVENT
DTSTART:20240613T233000Z
DTEND:20240614T023000Z
X-MICROSOFT-CDO-ALLDAYEVENT:FALSE
SUMMARY:Backyard Carnival Dance
DESCRIPTION:Music by JR Owens
X-ALT-DESC;FMTTYPE=text/html:Music by JR Owens
LOCATION:James P. Nix Center\, 1 Bayou Drive\, Fairhope\, AL
UID:e.1304.31388
SEQUENCE:3
DTSTAMP:20260425T220808Z
URL:http://business.eschamber.org/events/details/backyard-carnival-dance-31388
END:VEVENT

END:VCALENDAR
