BEGIN:VCALENDAR
VERSION:2.0
PRODID:-//ChamberMaster//Event Calendar 2.0//EN
METHOD:PUBLISH
X-PUBLISHED-TTL:P3D
REFRESH-INTERVAL:P3D
CALSCALE:GREGORIAN
BEGIN:VEVENT
DTSTART:20240416T180000Z
DTEND:20240416T213000Z
X-MICROSOFT-CDO-ALLDAYEVENT:FALSE
SUMMARY:Baldwin County Board of Education Classified Fair
DESCRIPTION:The Baldwin County Board of Education is looking to hire individuals in the following areas: Bus Drivers\, Child Nutrition Program\, Custodians\, Paraprofessionals\, and Nursing. Please make plans to attend the Classified Job Fair.
X-ALT-DESC;FMTTYPE=text/html:The Baldwin County Board of Education is looking to hire individuals in the following areas: Bus Drivers\, Child Nutrition Program\, Custodians\, Paraprofessionals\, and Nursing. Please make plans to attend the Classified Job Fair.
LOCATION:Robertsdale Coliseum
UID:e.1304.29973
SEQUENCE:3
DTSTAMP:20260426T005623Z
URL:http://business.eschamber.org/events/details/baldwin-county-board-of-education-classified-fair-29973
END:VEVENT

END:VCALENDAR
