BEGIN:VCALENDAR
VERSION:2.0
PRODID:-//ChamberMaster//Event Calendar 2.0//EN
METHOD:PUBLISH
X-PUBLISHED-TTL:P3D
REFRESH-INTERVAL:P3D
CALSCALE:GREGORIAN
BEGIN:VEVENT
DTSTART:20240320T170000Z
DTEND:20240320T180000Z
X-MICROSOFT-CDO-ALLDAYEVENT:FALSE
SUMMARY:Baldwin County Boys Ranch - Quarterly Luncheon
DESCRIPTION:Please come and join us at the Baldwin County Boys Ranch for our Quarterly Luncheon.\n\n\n\nWe will be sharing updates and progress on the ranch along with treating our sponsors and volunteers to a delicious lunch so that we can show our gratitude for their support. The menu will be smoked chicken\, roasted vegetables\, and mashed potatoes.\n\n\n\nWe hope to have you join us!\n\n\n\n\n\nPlease RSVP with number of individuals joining you to one of the following:\n\nSteven@alsyr.org - Steven Jones\, Director\n\nMachaela@alsyr.org - Machaela Parker\, Administrative Assistant\n\n(251) 989-6392 - Office Phone\, (8:30 A.M.-4:30 P.M. Monday-Friday)
X-ALT-DESC;FMTTYPE=text/html:<div style="text-align: center\;"><span style="background-color:rgb(255\, 255\, 255)\; color:rgb(85\, 85\, 85)\; font-family:montserrat\,sans-serif\; font-size:16px">Please come and join us at the&nbsp\;</span><strong><span style="color:rgb(85\, 85\, 85)\; font-family:montserrat\,sans-serif\; font-size:16px"><u>Baldwin County Boys Ranch</u></span></strong><span style="background-color:rgb(255\, 255\, 255)\; color:rgb(85\, 85\, 85)\; font-family:montserrat\,sans-serif\; font-size:16px">&nbsp\;for our&nbsp\;</span><strong><u><span style="color:inherit\; font-family:inherit\; font-size:inherit">Quarterly Luncheon</span></u></strong><span style="background-color:rgb(255\, 255\, 255)\; color:rgb(85\, 85\, 85)\; font-family:montserrat\,sans-serif\; font-size:16px">.</span><br />\n<br />\n<span style="background-color:rgb(255\, 255\, 255)\; color:rgb(85\, 85\, 85)\; font-family:montserrat\,sans-serif\; font-size:16px">We will be sharing updates and progress on the ranch along with treating our sponsors and volunteers to a delicious lunch so that we can show our gratitude for their support. The menu will be smoked chicken\, roasted vegetables\, and mashed potatoes.</span><br />\n<br />\n<span style="background-color:rgb(255\, 255\, 255)\; color:rgb(85\, 85\, 85)\; font-family:montserrat\,sans-serif\; font-size:16px">We hope to have you join us!</span><br />\n<br />\n<br />\n<strong><span style="color:rgb(85\, 85\, 85)\; font-family:montserrat\,sans-serif\; font-size:16px"><u>Please RSVP with number of individuals joining you to one of the following:</u></span></strong><br />\n<span style="background-color:rgb(255\, 255\, 255)\; color:rgb(85\, 85\, 85)\; font-family:montserrat\,sans-serif\; font-size:16px">Steven@alsyr.org - Steven Jones\, Director</span><br />\n<span style="background-color:rgb(255\, 255\, 255)\; color:rgb(85\, 85\, 85)\; font-family:montserrat\,sans-serif\; font-size:16px">Machaela@alsyr.org - Machaela Parker\, Administrative Assistant</span><br />\n<span style="background-color:rgb(255\, 255\, 255)\; color:rgb(85\, 85\, 85)\; font-family:montserrat\,sans-serif\; font-size:16px">(251) 989-6392 - Office Phone\, (8:30 A.M.-4:30 P.M. Monday-Friday)</span></div>\n
LOCATION:21870 County Road 32 Summerdale\, AL 36580 Located: In the Gymnasium
UID:e.1304.30005
SEQUENCE:3
DTSTAMP:20260426T021826Z
URL:http://business.eschamber.org/events/details/baldwin-county-boys-ranch-quarterly-luncheon-30005
END:VEVENT

END:VCALENDAR
