BEGIN:VCALENDAR
VERSION:2.0
PRODID:-//ChamberMaster//Event Calendar 2.0//EN
METHOD:PUBLISH
X-PUBLISHED-TTL:P3D
REFRESH-INTERVAL:P3D
CALSCALE:GREGORIAN
BEGIN:VEVENT
DTSTART:20241118T160000Z
DTEND:20241118T220000Z
X-MICROSOFT-CDO-ALLDAYEVENT:FALSE
SUMMARY:Baldwin County Career & Job Fair
DESCRIPTION:Whether you're looking for a job or looking to hire\, the Annual Baldwin County Career & Job Fair is the perfect place to find the right fit.\n\n \n\nBaldwin County Career & Job Fair\n\nPresenting Sponsor: Riviera Utilities\n\nMonday\, November 18\, 2024\n\n10 AM - 4 PM\n\nDaphne Civic Center\n\n2603 Highway 98\, Daphne\n\nPresented by the Eastern Shore Chamber of Commerce\n\n \n\nEMPLOYERS:\n\nEmployer Registration is NOW OPEN!\n\nEarly Bird Registration Deadline is November 8\, 2024\n\nRegistration Deadline is November 11\, 2024\n\n\n\nDOWNLOAD BOOTH REGISTRATION FORM\n\n \n\nJOB SEEKERS:\n\n- Free to Attend\n\n- Wide Range of Industries Represented\n\n- Dress for an interview\n\n- Bring copies of your resume\n\n \n\nMore Info:\n\nEastern Shore Chamber of Commerce\n\n251-928-6387\n\nofficeadmin@eschamber.com
X-ALT-DESC;FMTTYPE=text/html:<p class="x_MsoNormal" style="box-sizing: border-box\; margin: 0in\; font-size: 12pt\; overflow-wrap: break-word\; font-family: Calibri\, sans-serif\; color: rgb(32\, 31\, 30)\;"><span style="box-sizing: border-box\; margin: 0px\; padding: 0px\; border: 0px\; font-style: inherit\; font-variant: inherit\; font-stretch: inherit\; font-size: 11.5pt\; line-height: inherit\; font-family: Arial\, sans-serif\; vertical-align: baseline\; color: rgb(5\, 5\, 5)\;">Whether you&#39\;re looking for a job or looking to hire\, the Annual Baldwin County Career &amp\; Job Fair is the perfect place to find the right fit.</span></p>\n\n<p class="x_MsoNormal" style="box-sizing: border-box\; margin: 0in\; font-size: 12pt\; overflow-wrap: break-word\; font-family: Calibri\, sans-serif\; color: rgb(32\, 31\, 30)\;"><span style="box-sizing: border-box\; margin: 0px\; padding: 0px\; border: 0px\; font-style: inherit\; font-variant: inherit\; font-stretch: inherit\; font-size: 11pt\; line-height: inherit\; font-family: inherit\; vertical-align: baseline\; color: inherit\;">&nbsp\;</span></p>\n\n<p class="x_MsoNormal" style="box-sizing: border-box\; margin: 0in\; font-size: 12pt\; overflow-wrap: break-word\; font-family: Calibri\, sans-serif\; color: rgb(32\, 31\, 30)\; text-align: center\;"><span style="box-sizing: border-box\; margin: 0px\; padding: 0px\; border: 0px\; font-style: inherit\; font-variant: inherit\; font-stretch: inherit\; font-size: 11.5pt\; line-height: inherit\; font-family: Arial\, sans-serif\; vertical-align: baseline\; color: rgb(5\, 5\, 5)\;"><span style="box-sizing: border-box\; font-weight: bolder\;">Baldwin County Career &amp\; Job Fair</span><br style="box-sizing: border-box\;" />\nPresenting Sponsor: Riviera Utilities<br style="box-sizing: border-box\;" />\nMonday\, November 18\, 2024<br style="box-sizing: border-box\;" />\n10 AM&nbsp\;- 4&nbsp\;PM<br style="box-sizing: border-box\;" />\nDaphne Civic Center<br style="box-sizing: border-box\;" />\n2603 Highway 98\, Daphne</span></p>\n\n<p class="x_MsoNormal" style="box-sizing: border-box\; margin: 0in\; font-size: 12pt\; overflow-wrap: break-word\; font-family: Calibri\, sans-serif\; color: rgb(32\, 31\, 30)\; text-align: center\;"><em style="box-sizing: border-box\;"><span style="box-sizing: border-box\; margin: 0px\; padding: 0px\; border: 0px\; font-style: inherit\; font-variant: inherit\; font-stretch: inherit\; font-size: 11.5pt\; line-height: inherit\; font-family: Arial\, sans-serif\; vertical-align: baseline\; color: rgb(5\, 5\, 5)\;">Presented by the Eastern Shore Chamber of Commerce</span></em></p>\n\n<p class="x_MsoNormal" style="box-sizing: border-box\; margin: 0in\; font-size: 12pt\; overflow-wrap: break-word\; font-family: Calibri\, sans-serif\; color: rgb(32\, 31\, 30)\;">&nbsp\;</p>\n\n<p class="x_MsoNormal" style="box-sizing: border-box\; margin: 0in\; font-size: 12pt\; overflow-wrap: break-word\; font-family: Calibri\, sans-serif\; color: rgb(32\, 31\, 30)\; text-align: center\;"><span style="box-sizing: border-box\; margin: 0px\; padding: 0px\; border: 0px\; font-style: inherit\; font-variant: inherit\; font-stretch: inherit\; font-size: 11.5pt\; line-height: inherit\; font-family: Arial\, sans-serif\; vertical-align: baseline\; color: rgb(5\, 5\, 5)\;"><span style="box-sizing: border-box\; font-weight: bolder\;">EMPLOYERS:</span><br style="box-sizing: border-box\;" />\nEmployer Registration is NOW OPEN!</span><br style="box-sizing: border-box\;" />\nEarly Bird Registration Deadline is November&nbsp\;<em style="box-sizing: border-box\;">8\, 2024</em><br style="box-sizing: border-box\;" />\nRegistration Deadline is&nbsp\;<em style="box-sizing: border-box\;">November 11\, 2024</em><br />\n<br />\n<strong><a href="https://business.eschamber.com/news/details/november-2022-baldwin-county-career-job-fair-information"><em style="box-sizing: border-box\;">DOWNLOAD BOOTH REGISTRATION FORM</em></a></strong></p>\n\n<p class="x_MsoNormal" style="box-sizing: border-box\; margin: 0in\; font-size: 12pt\; overflow-wrap: break-word\; font-family: Calibri\, sans-serif\; color: rgb(32\, 31\, 30)\;"><span style="box-sizing: border-box\; margin: 0px\; padding: 0px\; border: 0px\; font-style: inherit\; font-variant: inherit\; font-stretch: inherit\; font-size: 11.5pt\; line-height: inherit\; font-family: Arial\, sans-serif\; vertical-align: baseline\; color: rgb(5\, 5\, 5)\;">&nbsp\;</span></p>\n\n<p class="x_MsoNormal" style="box-sizing: border-box\; margin: 0in\; font-size: 12pt\; overflow-wrap: break-word\; font-family: Calibri\, sans-serif\; color: rgb(32\, 31\, 30)\; text-align: center\;"><span style="box-sizing: border-box\; font-weight: bolder\;"><span style="box-sizing: border-box\;"><span style="box-sizing: border-box\; margin: 0px\; padding: 0px\; border: 0px\; font-style: inherit\; font-variant: inherit\; font-stretch: inherit\; font-size: 11.5pt\; line-height: inherit\; font-family: Arial\, sans-serif\; vertical-align: baseline\; color: rgb(5\, 5\, 5)\;">JOB SEEKERS:</span></span></span><br style="box-sizing: border-box\;" />\n<span style="box-sizing: border-box\; margin: 0px\; padding: 0px\; border: 0px\; font-style: inherit\; font-variant: inherit\; font-stretch: inherit\; font-size: 11.5pt\; line-height: inherit\; font-family: Arial\, sans-serif\; vertical-align: baseline\; color: rgb(5\, 5\, 5)\;">- Free to Attend<br style="box-sizing: border-box\;" />\n- Wide Range of Industries Represented<br style="box-sizing: border-box\;" />\n- Dress for an interview<br style="box-sizing: border-box\;" />\n- Bring copies of your resume</span></p>\n\n<p class="x_MsoNormal" style="box-sizing: border-box\; margin: 0in\; font-size: 12pt\; overflow-wrap: break-word\; font-family: Calibri\, sans-serif\; color: rgb(32\, 31\, 30)\;"><span style="box-sizing: border-box\; margin: 0px\; padding: 0px\; border: 0px\; font-style: inherit\; font-variant: inherit\; font-stretch: inherit\; font-size: 11.5pt\; line-height: inherit\; font-family: Arial\, sans-serif\; vertical-align: baseline\; color: rgb(5\, 5\, 5)\;">&nbsp\;</span></p>\n\n<p class="x_MsoNormal" style="box-sizing: border-box\; margin: 0in\; outline: 0px\; font-size: 12pt\; overflow-wrap: break-word\; font-family: Calibri\, sans-serif\; color: rgb(32\, 31\, 30)\; text-align: center\;"><span style="box-sizing: border-box\; font-weight: bolder\;"><span style="box-sizing: border-box\; margin: 0px\; padding: 0px\; border: 0px\; font-style: inherit\; font-variant: inherit\; font-stretch: inherit\; font-size: 11.5pt\; line-height: inherit\; font-family: Arial\, sans-serif\; vertical-align: baseline\; color: rgb(5\, 5\, 5)\;">More Info:<br style="box-sizing: border-box\;" />\nEastern Shore Chamber of Commerce<br style="box-sizing: border-box\;" />\n251-928-6387<br style="box-sizing: border-box\;" />\nofficeadmin@eschamber.com</span></span></p>\n
LOCATION:Daphne Civic Center 2603 HIGHWAY 98\, DAPHNE
UID:e.1304.35735
SEQUENCE:3
DTSTAMP:20260425T152811Z
URL:http://business.eschamber.org/events/details/baldwin-county-career-job-fair-35735
END:VEVENT

END:VCALENDAR
