BEGIN:VCALENDAR
VERSION:2.0
PRODID:-//ChamberMaster//Event Calendar 2.0//EN
METHOD:PUBLISH
X-PUBLISHED-TTL:P3D
REFRESH-INTERVAL:P3D
CALSCALE:GREGORIAN
BEGIN:VEVENT
DTSTART:20240417T153000Z
DTEND:20240417T203000Z
X-MICROSOFT-CDO-ALLDAYEVENT:FALSE
SUMMARY:Baldwin County Teacher Fair
DESCRIPTION:Please join us for the Baldwin County Teacher Fair. You will be able to meet our principals and ask questions about our schools. Please bring several copies of your resume with you.
X-ALT-DESC;FMTTYPE=text/html:Please join us for the Baldwin County Teacher Fair. You will be able to meet our principals and ask questions about our schools. Please bring several copies of your resume with you.
LOCATION:Robertsdale Coliseum
UID:e.1304.29972
SEQUENCE:3
DTSTAMP:20260426T005357Z
URL:http://business.eschamber.org/events/details/baldwin-county-teacher-fair-04-17-2024-29972
END:VEVENT

END:VCALENDAR
