BEGIN:VCALENDAR
VERSION:2.0
PRODID:-//ChamberMaster//Event Calendar 2.0//EN
METHOD:PUBLISH
X-PUBLISHED-TTL:P3D
REFRESH-INTERVAL:P3D
CALSCALE:GREGORIAN
BEGIN:VEVENT
DTSTART:20240426T130000Z
DTEND:20240426T210000Z
X-MICROSOFT-CDO-ALLDAYEVENT:FALSE
SUMMARY:Bayshore Christian School Golf Classic
DESCRIPTION:Join us for our Inaugural Golf Tournament!  Your contributions will aid in the continued growth of our Capital Campaign.  Register online at charitygolftoday.com/bayshorechristian.
X-ALT-DESC;FMTTYPE=text/html:Join us for our Inaugural Golf Tournament!&nbsp\; Your contributions will aid in the continued growth of our Capital Campaign.&nbsp\; Register online at <span style="color:#0000FF\;">charitygolftoday.com/bayshorechristian</span>.<br />\n&nbsp\;
LOCATION:Rock Creek Golf Club\, 140 Club House Drive\, Fairhope\, AL
UID:e.1304.30076
SEQUENCE:3
DTSTAMP:20260426T005352Z
URL:http://business.eschamber.org/events/details/bayshore-christian-school-golf-classic-30076
END:VEVENT

END:VCALENDAR
