BEGIN:VCALENDAR
VERSION:2.0
PRODID:-//ChamberMaster//Event Calendar 2.0//EN
METHOD:PUBLISH
X-PUBLISHED-TTL:P3D
REFRESH-INTERVAL:P3D
CALSCALE:GREGORIAN
BEGIN:VEVENT
DTSTART:20241004T140000Z
DTEND:20241004T210000Z
X-MICROSOFT-CDO-ALLDAYEVENT:FALSE
SUMMARY:BCSHRM Annual Conference
DESCRIPTION:Join us for our annual conference "Platinum Minds\, Resilient Cultures" on Friday\, October 4\, 2024\, from 9 am until 4 pm at the Foley Civic Center!\n\n\n\nFour amazing speakers will provide insightful tips on a variety of topics for anyone managing employees: supervisors\, front-line managers\, HR professionals\, owners\, directors\, you name it!\n\n\n\nKeynote Speaker: \n\nMichael Towers\, HR Avenger - Mental Health Makeover\n\n\n\nGuest Speakers:\n\n	Bo Bonner\, Assistant Personnel Director for Baldwin County Commission - Communicating with Colors\n	Damian Rehorn\, Training Coordinator for City of Fairhope - Recognizing Drugs & Alcohol in the Workplace\n	Tae Phillips\, Attorney for Ogletree Deakins - Legal (Workplace) Update\n\nFor more information and to register\, please go to: https://www.eventbrite.com/e/bcshrm-annual-conference-tickets-851892452257
X-ALT-DESC;FMTTYPE=text/html:Join us for our annual conference &quot\;Platinum Minds\, Resilient Cultures&quot\; on Friday\, October 4\, 2024\, from 9 am until 4 pm at the Foley Civic Center!<br />\n<br />\nFour amazing speakers will provide insightful tips on a variety of topics for anyone managing employees: supervisors\, front-line managers\, HR professionals\, owners\, directors\, you name it!<br />\n<br />\n<strong>Keynote Speaker:&nbsp\;</strong><br />\nMichael Towers\, HR Avenger - Mental Health Makeover<br />\n<br />\n<strong>Guest Speakers:</strong>\n<ul>\n	<li>Bo Bonner\, Assistant Personnel Director for Baldwin County Commission - Communicating with Colors</li>\n	<li>Damian Rehorn\, Training Coordinator for City of Fairhope - Recognizing Drugs &amp\; Alcohol in the Workplace</li>\n	<li>Tae Phillips\, Attorney for Ogletree Deakins - Legal (Workplace) Update</li>\n</ul>\nFor more information and to register\, please go to: https://www.eventbrite.com/e/bcshrm-annual-conference-tickets-851892452257<br />\n<br />\n&nbsp\;
LOCATION:Foley Civic Center 407 East Laurel Ave. Foley\, AL. 36535
UID:e.1304.35688
SEQUENCE:3
DTSTAMP:20260425T164713Z
URL:http://business.eschamber.org/events/details/bcshrm-annual-conference-35688
END:VEVENT

END:VCALENDAR
