BEGIN:VCALENDAR
VERSION:2.0
PRODID:-//ChamberMaster//Event Calendar 2.0//EN
METHOD:PUBLISH
X-PUBLISHED-TTL:P3D
REFRESH-INTERVAL:P3D
CALSCALE:GREGORIAN
BEGIN:VEVENT
DTSTART:20240321T230000Z
DTEND:20240322T010000Z
X-MICROSOFT-CDO-ALLDAYEVENT:FALSE
SUMMARY:Best of the Bay
DESCRIPTION:Live auction\, Live Music Disco Kiss and lots of fun food and drinks to sample\, celebrity judges and amateur and professional chefs alike. Split the pot and more don't miss out on all the fun.  All the funds raised stay in Baldwin County to help our kids.
X-ALT-DESC;FMTTYPE=text/html:Live auction\, Live Music Disco Kiss and lots of fun food and drinks to sample\, celebrity judges and amateur and professional chefs alike. Split the pot and more don&#39\;t miss out on all the fun.&nbsp\; All the funds raised stay in Baldwin County to help our kids.
LOCATION:Daphne Civic Center
UID:e.1304.28823
SEQUENCE:3
DTSTAMP:20260426T022117Z
URL:http://business.eschamber.org/events/details/best-of-the-bay-28823
END:VEVENT

END:VCALENDAR
