BEGIN:VCALENDAR
VERSION:2.0
PRODID:-//ChamberMaster//Event Calendar 2.0//EN
METHOD:PUBLISH
X-PUBLISHED-TTL:P3D
REFRESH-INTERVAL:P3D
CALSCALE:GREGORIAN
BEGIN:VEVENT
DTSTART:20241005T140000Z
DTEND:20241005T180000Z
X-MICROSOFT-CDO-ALLDAYEVENT:FALSE
SUMMARY:Bird & Nature Expo
DESCRIPTION:The Nature Expo\, on Saturday\, October 5\, 9:00 PM   1:00 PM at the 5 Rivers Delta Resource Center\, is a fun\, family friendly exposition featuring exhibitors' organizations that support environmental protection. Nature Expo attendees enjoy learning about Gulf Coast natural resources and conservation through interactive displays\, a "touch tank" filled with crabs and other water critters\, games\, a raptor demonstration\, and a host of experts who are available to answer questions about our natural resources and how to protect them.
X-ALT-DESC;FMTTYPE=text/html:The Nature Expo\, on Saturday\, October 5\, 9:00 PM &ndash\; 1:00 PM at the 5 Rivers Delta Resource Center\, is a fun\, family friendly exposition featuring exhibitors&#39\; organizations that support environmental protection. Nature Expo attendees enjoy learning about Gulf Coast natural resources and conservation through interactive displays\, a &ldquo\;touch tank&rdquo\; filled with crabs and other water critters\, games\, a raptor demonstration\, and a host of experts who are available to answer questions about our natural resources and how to protect them.
LOCATION:5 Rivers Delta Resource Center
UID:e.1304.33658
SEQUENCE:3
DTSTAMP:20260425T164801Z
URL:http://business.eschamber.org/events/details/bird-nature-expo-33658
END:VEVENT

END:VCALENDAR
