BEGIN:VCALENDAR
VERSION:2.0
PRODID:-//ChamberMaster//Event Calendar 2.0//EN
METHOD:PUBLISH
X-PUBLISHED-TTL:P3D
REFRESH-INTERVAL:P3D
CALSCALE:GREGORIAN
BEGIN:VEVENT
DTSTART:20240407T003000Z
DTEND:20240407T023000Z
X-MICROSOFT-CDO-ALLDAYEVENT:FALSE
SUMMARY:Bonded: A Salute to the Music of James Bond
DESCRIPTION:Experience the glamour\, intrigue\, and timeless melodies as OWA Theater proudly presents 'Bonded: A Salute to the Music of James Bond with Jaimee Paul.' Enjoy an evening of sophistication and style on April 6th at 7:30 PM\, where the talented Jaimee Paul will transport you into the world of 007 with her soulful renditions of the iconic James Bond theme songs.\n\n\n\nJaimee Paul pays homage to the musical legacy of the world's most famous spy. From the sultry tunes of Shirley Bassey to the adrenaline-pumping tracks that defined the Bond films\, this performance provides an unforgettable journey through the cinematic soundscape.\n\n\n\nDon your finest attire\, embrace the mystery\, and join us early at OWA Theater for happy hour starting at 6 PM   Secure your tickets now for a night of sophistication\, shaken\, not stirred.
X-ALT-DESC;FMTTYPE=text/html:Experience the glamour\, intrigue\, and timeless melodies as OWA Theater proudly presents &#39\;Bonded: A Salute to the Music of James Bond with Jaimee Paul.&#39\; Enjoy an evening of sophistication and style on April 6th at 7:30 PM\, where the talented Jaimee Paul will transport you into the world of 007 with her soulful renditions of the iconic James Bond theme songs.<br />\n<br />\nJaimee Paul pays homage to the musical legacy of the world&#39\;s most famous spy. From the sultry tunes of Shirley Bassey to the adrenaline-pumping tracks that defined the Bond films\, this performance provides an unforgettable journey through the cinematic soundscape.<br />\n<br />\nDon your finest attire\, embrace the mystery\, and join us early at OWA Theater for happy hour starting at 6 PM &ndash\; Secure your tickets now for a night of sophistication\, shaken\, not stirred.
LOCATION:Join OWA Theater for a timeless allure of James Bond music on April 6th!
UID:e.1304.30017
SEQUENCE:3
DTSTAMP:20260426T005848Z
URL:http://business.eschamber.org/events/details/bonded-a-salute-to-the-music-of-james-bond-30017
END:VEVENT

END:VCALENDAR
