BEGIN:VCALENDAR
VERSION:2.0
PRODID:-//ChamberMaster//Event Calendar 2.0//EN
METHOD:PUBLISH
X-PUBLISHED-TTL:P3D
REFRESH-INTERVAL:P3D
CALSCALE:GREGORIAN
BEGIN:VEVENT
DTSTART:20240516T220000Z
DTEND:20240517T000000Z
X-MICROSOFT-CDO-ALLDAYEVENT:FALSE
SUMMARY:Bourbon & Cigars
DESCRIPTION:Join us for a Bourbon and Cigar Tasting and the most convenient way to buy Men's Clothing on the Eastern Shore.
X-ALT-DESC;FMTTYPE=text/html:Join us for a Bourbon and Cigar Tasting and the most convenient way to buy Men&#39\;s Clothing on the Eastern Shore.
LOCATION:The Hope Farm
UID:e.1304.31357
SEQUENCE:3
DTSTAMP:20260425T233313Z
URL:http://business.eschamber.org/events/details/bourbon-cigars-31357
END:VEVENT

END:VCALENDAR
