BEGIN:VCALENDAR
VERSION:2.0
PRODID:-//ChamberMaster//Event Calendar 2.0//EN
METHOD:PUBLISH
X-PUBLISHED-TTL:P3D
REFRESH-INTERVAL:P3D
CALSCALE:GREGORIAN
BEGIN:VEVENT
DTSTART:20241214T150000Z
DTEND:20241214T180000Z
X-MICROSOFT-CDO-ALLDAYEVENT:FALSE
SUMMARY:Breakfast with Santa
DESCRIPTION:Come us join to eat breakfast with Santa!
X-ALT-DESC;FMTTYPE=text/html:Come us join to eat breakfast with Santa!
LOCATION:Marlow United Methodist Church 16135 County Road 9 Summerdale\, AL 36580
UID:e.1304.35908
SEQUENCE:3
DTSTAMP:20260425T123721Z
URL:http://business.eschamber.org/events/details/breakfast-with-santa-12-14-2024-35908
END:VEVENT

END:VCALENDAR
