BEGIN:VCALENDAR
VERSION:2.0
PRODID:-//ChamberMaster//Event Calendar 2.0//EN
METHOD:PUBLISH
X-PUBLISHED-TTL:P3D
REFRESH-INTERVAL:P3D
CALSCALE:GREGORIAN
BEGIN:VEVENT
DTSTART:20240925T230000Z
DTEND:20240926T020000Z
X-MICROSOFT-CDO-ALLDAYEVENT:FALSE
SUMMARY:Buckaroo at The Blue
DESCRIPTION:Join us in supporting the Buckaroo Foundation\, a non profit for special needs children to receive physical therapy.\n\nAll you can eat Buffett  Beverages provided by Braided River and Live music with JERI\n\nAll proceeds benefit the Buckaroo Foundation and our Lil' Buckaroos
X-ALT-DESC;FMTTYPE=text/html:Join us in supporting the Buckaroo Foundation\, a non profit for special needs children to receive physical therapy.<br />\nAll you can eat Buffett&nbsp\; Beverages provided by Braided River and Live music with JERI<br />\nAll proceeds benefit the Buckaroo Foundation and our Lil&#39\; Buckaroos
LOCATION:The Blue Gill on the causeway
UID:e.1304.35710
SEQUENCE:3
DTSTAMP:20260423T184524Z
URL:http://business.eschamber.org/events/details/buckaroo-at-the-blue-09-25-2024-35710
END:VEVENT

END:VCALENDAR
