BEGIN:VCALENDAR
VERSION:2.0
PRODID:-//ChamberMaster//Event Calendar 2.0//EN
METHOD:PUBLISH
X-PUBLISHED-TTL:P3D
REFRESH-INTERVAL:P3D
CALSCALE:GREGORIAN
BEGIN:VEVENT
DTSTART:20240413T150000Z
DTEND:20240413T190000Z
X-MICROSOFT-CDO-ALLDAYEVENT:FALSE
SUMMARY:Buckaroo Foundation BBQ Fundraiser
DESCRIPTION:The Buckaroo Foundation\n\n12th Annual BBQ Plate Fundraiser
X-ALT-DESC;FMTTYPE=text/html:The Buckaroo Foundation<br />\n12th Annual BBQ Plate Fundraiser
LOCATION:Whitehouse Fork Volunteer Station 11104 Whitehouse Fork Road Extension Bay Minette\, AL
UID:e.1304.30060
SEQUENCE:3
DTSTAMP:20260426T005239Z
URL:http://business.eschamber.org/events/details/buckaroo-foundation-bbq-fundraiser-30060
END:VEVENT

END:VCALENDAR
