BEGIN:VCALENDAR
VERSION:2.0
PRODID:-//ChamberMaster//Event Calendar 2.0//EN
METHOD:PUBLISH
X-PUBLISHED-TTL:P3D
REFRESH-INTERVAL:P3D
CALSCALE:GREGORIAN
BEGIN:VEVENT
DTSTART:20240323T150000Z
DTEND:20240330T230000Z
X-MICROSOFT-CDO-ALLDAYEVENT:FALSE
SUMMARY:Bunnies & Baskets
DESCRIPTION:It's Spring and that means it's time for Bunnies & Baskets! From March 23 to March 30\, join us for a week-long event full of family-friendly activities\, including a Golden Egg Hunt in Tropic Falls\, a Bonnet Decoration competition\, photos with the Mr. Bunny\, and much more! It's a Spring extravaganza you won't want to miss!\n\n\n\nRemember to purchase your Tropic Falls here: https://visitowa.com/plan-your-visit/tickets/\n\n\n\nFor full schedule of events: https://visitowa.com/bunnies-and-baskets/
X-ALT-DESC;FMTTYPE=text/html:It&rsquo\;s Spring and that means it&#39\;s time for Bunnies &amp\; Baskets! From March 23 to March 30\, join us for a week-long event full of family-friendly activities\, including a Golden Egg Hunt in Tropic Falls\, a Bonnet Decoration competition\, photos with the Mr. Bunny\, and much more! It&rsquo\;s a Spring extravaganza you won&rsquo\;t want to miss!<br />\n<br />\nRemember to purchase your Tropic Falls here: https://visitowa.com/plan-your-visit/tickets/<br />\n<br />\nFor full schedule of events: https://visitowa.com/bunnies-and-baskets/
LOCATION:Tropic Falls & Downtown OWA
UID:e.1304.30030
SEQUENCE:3
DTSTAMP:20260426T021648Z
URL:http://business.eschamber.org/events/details/bunnies-baskets-30030
END:VEVENT

END:VCALENDAR
