BEGIN:VCALENDAR
VERSION:2.0
PRODID:-//ChamberMaster//Event Calendar 2.0//EN
METHOD:PUBLISH
X-PUBLISHED-TTL:P3D
REFRESH-INTERVAL:P3D
CALSCALE:GREGORIAN
BEGIN:VEVENT
DTSTART:20240404T220000Z
DTEND:20240405T000000Z
X-MICROSOFT-CDO-ALLDAYEVENT:FALSE
SUMMARY:Business After Hours April 2024 - PJ's Coffee
DESCRIPTION:Business After Hours at PJ's Coffee
X-ALT-DESC;FMTTYPE=text/html:Business After Hours at PJ&#39\;s Coffee
LOCATION:PJ's Coffee of New Orleans 6510 Spanish Fort Blvd Spanish Fort\, AL 36527
UID:e.1304.28548
SEQUENCE:3
DTSTAMP:20260426T005402Z
URL:http://business.eschamber.org/events/details/business-after-hours-april-2024-pj-s-coffee-28548
END:VEVENT

END:VCALENDAR
