BEGIN:VCALENDAR
VERSION:2.0
PRODID:-//ChamberMaster//Event Calendar 2.0//EN
METHOD:PUBLISH
X-PUBLISHED-TTL:P3D
REFRESH-INTERVAL:P3D
CALSCALE:GREGORIAN
BEGIN:VEVENT
DTSTART:20241205T230000Z
DTEND:20241206T010000Z
X-MICROSOFT-CDO-ALLDAYEVENT:FALSE
SUMMARY:Business After Hours December 2024 - Southern View Media
DESCRIPTION:Business After Hours at Southern View Media
X-ALT-DESC;FMTTYPE=text/html:Business After Hours at Southern View Media
LOCATION:Southern View Media 25369 US Highway 98 Daphne\, AL 36526
UID:e.1304.28857
SEQUENCE:3
DTSTAMP:20260423T154646Z
URL:http://business.eschamber.org/events/details/business-after-hours-december-2024-southern-view-media-28857
END:VEVENT

END:VCALENDAR
