BEGIN:VCALENDAR
VERSION:2.0
PRODID:-//ChamberMaster//Event Calendar 2.0//EN
METHOD:PUBLISH
X-PUBLISHED-TTL:P3D
REFRESH-INTERVAL:P3D
CALSCALE:GREGORIAN
BEGIN:VEVENT
DTSTART:20240606T220000Z
DTEND:20240607T000000Z
X-MICROSOFT-CDO-ALLDAYEVENT:FALSE
SUMMARY:Business After Hours June 2024 - Southern Eye Group
DESCRIPTION:Business After Hours at Southern Eye Group
X-ALT-DESC;FMTTYPE=text/html:Business After Hours at Southern Eye Group
LOCATION:Southern Eye Group 411 N. Section Street Fairhope\, AL 36532
UID:e.1304.28555
SEQUENCE:3
DTSTAMP:20260425T221048Z
URL:http://business.eschamber.org/events/details/business-after-hours-june-2024-southern-eye-group-28555
END:VEVENT

END:VCALENDAR
