BEGIN:VCALENDAR
VERSION:2.0
PRODID:-//ChamberMaster//Event Calendar 2.0//EN
METHOD:PUBLISH
X-PUBLISHED-TTL:P3D
REFRESH-INTERVAL:P3D
CALSCALE:GREGORIAN
BEGIN:VEVENT
DTSTART:20240509T220000Z
DTEND:20240510T000000Z
X-MICROSOFT-CDO-ALLDAYEVENT:FALSE
SUMMARY:Business After Hours May 2024 - Alabama Credit Union/Fairhope
DESCRIPTION:Business After Hours at Alabama Credit Union/Fairhope\n\n\n\nBusiness After Hours will include music by Wes Loper\, catering by Andree's\, and the tap truck will be on hand.
X-ALT-DESC;FMTTYPE=text/html:Business After Hours at Alabama Credit Union/Fairhope<br />\n<br />\n<span style="color: rgb(66\, 66\, 66)\; font-family: Calibri\, sans-serif\; font-size: 14.6667px\;">Business After Hours will include music by Wes Loper\, catering by Andree&rsquo\;s\, and the tap truck will be on hand.&nbsp\;</span>
LOCATION:Alabama Credit Union 111 Baldwin Square Fairhope\, AL 36532
UID:e.1304.30087
SEQUENCE:3
DTSTAMP:20260425T233808Z
URL:http://business.eschamber.org/events/details/business-after-hours-may-2024-alabama-credit-union-fairhope-30087
END:VEVENT

END:VCALENDAR
