BEGIN:VCALENDAR
VERSION:2.0
PRODID:-//ChamberMaster//Event Calendar 2.0//EN
METHOD:PUBLISH
X-PUBLISHED-TTL:P3D
REFRESH-INTERVAL:P3D
CALSCALE:GREGORIAN
BEGIN:VEVENT
DTSTART:20241107T230000Z
DTEND:20241108T010000Z
X-MICROSOFT-CDO-ALLDAYEVENT:FALSE
SUMMARY:Business After Hours November 2024 - Prodisee Pantry
DESCRIPTION:Business After Hours at Prodisee Pantry
X-ALT-DESC;FMTTYPE=text/html:Business After Hours at Prodisee Pantry
LOCATION:Prodisee Pantry 9315 Spanish Fort Boulevard Spanish Fort\, AL 36527
UID:e.1304.28856
SEQUENCE:3
DTSTAMP:20260425T152936Z
URL:http://business.eschamber.org/events/details/business-after-hours-november-2024-prodisee-pantry-28856
END:VEVENT

END:VCALENDAR
