BEGIN:VCALENDAR
VERSION:2.0
PRODID:-//ChamberMaster//Event Calendar 2.0//EN
METHOD:PUBLISH
X-PUBLISHED-TTL:P3D
REFRESH-INTERVAL:P3D
CALSCALE:GREGORIAN
BEGIN:VEVENT
DTSTART:20241003T220000Z
DTEND:20241004T000000Z
X-MICROSOFT-CDO-ALLDAYEVENT:FALSE
SUMMARY:Business After Hours October 2024 - Homestead Village of Fairhope
DESCRIPTION:Business After Hours at Homestead Village of Fairhope
X-ALT-DESC;FMTTYPE=text/html:Business After Hours at Homestead Village of Fairhope&nbsp\;
LOCATION:Homestead Village of Fairhope 924 Plantation Blvd\, Fairhope\, AL 36532
UID:e.1304.28855
SEQUENCE:3
DTSTAMP:20260425T165959Z
URL:http://business.eschamber.org/events/details/business-after-hours-october-2024-homestead-village-of-fairhope-28855
END:VEVENT

END:VCALENDAR
