BEGIN:VCALENDAR
VERSION:2.0
PRODID:-//ChamberMaster//Event Calendar 2.0//EN
METHOD:PUBLISH
X-PUBLISHED-TTL:P3D
REFRESH-INTERVAL:P3D
CALSCALE:GREGORIAN
BEGIN:VEVENT
DTSTART:20240905T220000Z
DTEND:20240906T000000Z
X-MICROSOFT-CDO-ALLDAYEVENT:FALSE
SUMMARY:Business After Hours September 2024 - Bryant Bank Daphne
DESCRIPTION:Business After Hours at Bryant Bank Daphne
X-ALT-DESC;FMTTYPE=text/html:Business After Hours at&nbsp\;Bryant Bank Daphne&nbsp\;
LOCATION:Bryant Bank Daphne 1801 US-98\, Daphne\, AL 36526
UID:e.1304.28854
SEQUENCE:3
DTSTAMP:20260425T182113Z
URL:http://business.eschamber.org/events/details/business-after-hours-september-2024-bryant-bank-daphne-28854
END:VEVENT

END:VCALENDAR
