BEGIN:VCALENDAR
VERSION:2.0
PRODID:-//ChamberMaster//Event Calendar 2.0//EN
METHOD:PUBLISH
X-PUBLISHED-TTL:P3D
REFRESH-INTERVAL:P3D
CALSCALE:GREGORIAN
BEGIN:VEVENT
DTSTART:20240905T223000Z
DTEND:20240906T010000Z
X-MICROSOFT-CDO-ALLDAYEVENT:FALSE
SUMMARY:Goal-Getters Unite: Coastal Alabama Networking NFL Kickoff Event
DESCRIPTION:Are you seeking to meet other small business leaders on the Eastern Shore? Coastal Alabama Networking is a tight knit group of local professionals supporting its members through education\, marketing\, and referrals. Last year we closed over $102\,000 in referred business and are on track to double that number this year! CAN is hosting an after-hours visitors' meeting on Thursday\, September 5th to watch the NFL kickoff game. Stop in and see if we are a good fit to help you achieve your goals!  Food and drinks will be provided. Space is limited\, so RSVP early to ensure your spot!
X-ALT-DESC;FMTTYPE=text/html:<span style="color:#663300"><span style="font-family:aptos\,sans-serif"><span style="font-size:12.0pt">Are you seeking to meet other small business leaders on the Eastern Shore? Coastal Alabama Networking is a tight knit group of local professionals supporting its members through education\, marketing\, and referrals. Last year we closed over $102\,000 in referred business and are on track to double that number this year!&nbsp\;<u>CAN is hosting an after-hours visitors&rsquo\; meeting on Thursday\, September 5th&nbsp\;to watch the NFL kickoff game.</u> Stop in and see if we are a good fit to help you achieve your goals!&nbsp\; Food and drinks will be provided.&nbsp\;</span></span></span><span style="background-color:rgb(255\, 255\, 255)\; color:rgb(102\, 51\, 0)\; font-family:aptos\,sans-serif\; font-size:16px">Space is limited\, so RSVP early to ensure your spot!</span>
LOCATION:Tidewater Insurance Agency located behind Sage Lebanese Cuisine 319 1/2 Fairhope Ave Fairhope\, AL 36532
UID:e.1304.35648
SEQUENCE:3
DTSTAMP:20260425T181247Z
URL:http://business.eschamber.org/events/details/business-networking-kickoff-event-35648
END:VEVENT

END:VCALENDAR
