BEGIN:VCALENDAR
VERSION:2.0
PRODID:-//ChamberMaster//Event Calendar 2.0//EN
METHOD:PUBLISH
X-PUBLISHED-TTL:P3D
REFRESH-INTERVAL:P3D
CALSCALE:GREGORIAN
BEGIN:VEVENT
DTSTART:20240302T013000Z
DTEND:20240302T033000Z
X-MICROSOFT-CDO-ALLDAYEVENT:FALSE
SUMMARY:Cash BAck - A Tribtue to Johnny Cash & June Carter-Cash
DESCRIPTION:Join OWA Theater on March 1st at 7:30 PM for an unforgettable live musical performance\, "Cash Back   A Tribute to Johnny Cash & June Carter-Cash." Immerse yourself in an evening of live music that pays homage to the iconic Johnny Cash and his beloved wife\, June Carter-Cash. Let the timeless classics\, vibrant energy\, and heartfelt tributes transport you to the golden era of these music legends. \n\nCash Back\, the tribute band\, skillfully captures the authentic sound\, spirit\, and soul of Johnny Cash and June Carter-Cash. Led by a talented ensemble of musicians\, this tribute group flawlessly captures the unique blend of country\, rockabilly\, and Americana that defined the legendary Johnny Cash's career. With their exceptional musical prowess and unwavering dedication to honoring the Cash legacy\, "Cash Back" delivers a performance that is as close to the real thing as you can get.\n\nPurchase your tickets today! https://visitowa.com/cash-back/\n\nTickets\n\nReserved - $34.99\n\nPreferred - $39.99\n\nMezzanine - $44.99\n\nGroup (10+) - $29.99\n\nFor group reservations\, please contact Group Sales at GroupSales@VisitOWA.com or 251-923-3490
X-ALT-DESC;FMTTYPE=text/html:<span style="font-family:calibri\,sans-serif"><span style="font-size:11.0pt">Join OWA Theater on March 1<sup>st</sup> at 7:30 PM for an unforgettable live musical performance\, &quot\;Cash Back &mdash\; A Tribute to Johnny Cash &amp\; June Carter-Cash.&quot\; Immerse yourself in an evening of live music that pays homage to the iconic Johnny Cash and his beloved wife\, June Carter-Cash. Let the timeless classics\, vibrant energy\, and heartfelt tributes transport you to the golden era of these music legends. </span></span><br />\n<span style="font-family:calibri\,sans-serif"><span style="font-size:11.0pt">Cash Back\, the tribute band\, skillfully captures the authentic sound\, spirit\, and soul of Johnny Cash and June Carter-Cash. Led by a talented ensemble of musicians\, this tribute group flawlessly captures the unique blend of country\, rockabilly\, and Americana that defined the legendary Johnny Cash&#39\;s career. With their exceptional musical prowess and unwavering dedication to honoring the Cash legacy\, &quot\;Cash Back&quot\; delivers a performance that is as close to the real thing as you can get.</span></span><br />\n<span style="font-family:calibri\,sans-serif"><span style="font-size:11.0pt">Purchase your tickets today! </span></span><a href="https://visitowa.com/cash-back/">https://visitowa.com/cash-back/</a><br />\n<strong><u><span style="font-family:calibri\,sans-serif"><span style="font-size:11.0pt">Tickets</span></span></u></strong><br />\nReserved - $34.99<br />\nPreferred - $39.99<br />\nMezzanine - $44.99<br />\nGroup (10+) - $29.99<br />\nFor group reservations\, please contact Group Sales at <a href="mailto:GroupSales@VisitOWA.com">GroupSales@VisitOWA.com</a> or <a href="tel:2519233490">251-923-3490</a>
LOCATION:OWA Theater
UID:e.1304.29078
SEQUENCE:3
DTSTAMP:20260426T022455Z
URL:http://business.eschamber.org/events/details/cash-back-a-tribtue-to-johnny-cash-june-carter-cash-29078
END:VEVENT

END:VCALENDAR
