BEGIN:VCALENDAR
VERSION:2.0
PRODID:-//ChamberMaster//Event Calendar 2.0//EN
METHOD:PUBLISH
X-PUBLISHED-TTL:P3D
REFRESH-INTERVAL:P3D
CALSCALE:GREGORIAN
BEGIN:VEVENT
DTSTART:20240505T003000Z
DTEND:20240505T030000Z
X-MICROSOFT-CDO-ALLDAYEVENT:FALSE
SUMMARY:CATS - NOW REIMAGINED FOR THEATRE ON THE BLUFF!
DESCRIPTION:DON'T MISS CATS\, ANDREW LLOYD WEBBER'S EXTRAORDINARY RECORD-BREAKING\, SMASH-HIT MUSICAL! -- NOW REIMAGINED FOR THEATRE ON THE BLUFF! JOIN THE JELLICLE CATS LIKE YOU'VE NEVER SEEN THEM BEFORE!\n\nCATS\, one of the longest-running shows in West End and Broadway history\, received its world premiere at the New London Theatre in 1981 where it played for 21 record-breaking years and almost 9\,000 performances. The ground-breaking production was the winner of the Olivier and Evening Standard Awards for Best Musical. In 1983 the Broadway production became the recipient of seven Tony awards including Best Musical\, and ran for 18 years.\n\nSince its world premiere\, CATS has been presented in over 30 countries\, has been translated into 15 languages and has been seen by more than 73 million people worldwide. Both the original London and Broadway cast recordings won Grammy Awards for Best Cast Album.\n\nEastern Shore Repertory Theatre will bring Cats to the 11th Annual Theatre on the Bluff on May 2 - 4\, 2024 directed by Erin Langley with choreography by Matthew Kiel. Costume design by Shirlee Idzakovich.\n\nAll shows begin at 7:30 p.m.\, and gates will open at 6:30 each evening. Patrons should bring their own blanket or lawn chair\, and picnics are encouraged. Concessions will also be available for purchase.\n\nTickets are now on sale on our website or they can be purchased at the gate on the night of the show if tickets are still available. In the event that a performance must be canceled due to inclement weather\, a rain date performance will be held on Sunday\, May 5\, 2024. All tickets are non-refundable.\n\nDATES & TIMES\n\nThursday\, May 2\, 2024 7:30 PM\n\nFriday\, May 3\, 2024 7:30 PM\n\nSaturday\, May 4\, 2024 7:30 PM\n\n(Gates open at 6:30 PM for General Admission)\n\nLOCATION\n\nHenry George Bluff Park\, Fairhope\, Alabama\n\nTO PURCHASE TICKETS\n\nhttps://www.easternshorerep.org/\n\nABOUT ESRT\n\nFounded in 2012\, Eastern Shore Repertory Theatre provides innovative\, high-quality theatre experiences for the Eastern Shore community\, including musical theatre summer camps\, dance and musical theatre classes\, participation in Junior Theater Festival\, the world's largest musical theater festival for young people\, and two major productions each year. ESRT productions entertain approximately 15\,000 audience members annually and include the fall show which features a cast of 70-80 area students aged from 3rd-12th grade and the popular Theatre on the Bluff held each spring featuring performers of all ages.
X-ALT-DESC;FMTTYPE=text/html:<p><strong>DON&#39\;T MISS CATS\, ANDREW LLOYD WEBBER&#39\;S EXTRAORDINARY RECORD-BREAKING\, SMASH-HIT MUSICAL! -- NOW REIMAGINED FOR THEATRE ON THE BLUFF! JOIN THE JELLICLE CATS LIKE YOU&#39\;VE NEVER SEEN THEM BEFORE!</strong></p>\n\n<p><span style="background-color:transparent\; color:rgb(0\, 24\, 55)\; font-family:arial\,sans-serif\; font-size:11pt">CATS\, one of the longest-running shows in West End and Broadway history\, received its world premiere at the New London Theatre in 1981 where it played for 21 record-breaking years and almost 9\,000 performances. The ground-breaking production was the winner of the Olivier and Evening Standard Awards for Best Musical. In 1983 the Broadway production became the recipient of seven Tony awards including Best Musical\, and ran for 18 years.</span></p>\n\n<p><span style="background-color:transparent\; color:rgb(0\, 24\, 55)\; font-family:arial\,sans-serif\; font-size:11pt">Since its world premiere\, CATS has been presented in over 30 countries\, has been translated into 15 languages and has been seen by more than 73 million people worldwide. Both the original London and Broadway cast recordings won Grammy Awards for Best Cast Album.</span></p>\n\n<p><span style="background-color:transparent\; color:rgb(0\, 24\, 55)\; font-family:arial\,sans-serif\; font-size:11pt">Eastern Shore Repertory Theatre will bring Cats to the 11th Annual Theatre on the Bluff on May 2 - 4\, 2024 directed by Erin Langley with choreography by Matthew Kiel. Costume design by Shirlee Idzakovich.</span></p>\n\n<p><span style="background-color:transparent\; color:rgb(0\, 24\, 55)\; font-family:arial\,sans-serif\; font-size:11pt">All shows begin at 7:30 p.m.\, and gates will open at 6:30 each evening. Patrons should bring their own blanket or lawn chair\, and picnics are encouraged. Concessions will also be available for purchase.</span></p>\n\n<p><span style="background-color:transparent\; color:rgb(0\, 24\, 55)\; font-family:arial\,sans-serif\; font-size:11pt">Tickets are now on sale on our website or they can be purchased at the gate on the night of the show if tickets are still available. In the event that a performance must be canceled due to inclement weather\, a rain date performance will be held on Sunday\, May 5\, 2024. All tickets are non-refundable.</span></p>\n\n<p><strong>DATES &amp\; TIMES</strong><br />\n<span style="font-family:arial\,sans-serif\; font-size:11pt">Thursday\, May 2\, 2024 7:30 PM</span><br />\n<span style="font-family:arial\,sans-serif\; font-size:11pt">Friday\, May 3\, 2024 7:30 PM</span><br />\n<span style="font-family:arial\,sans-serif\; font-size:11pt">Saturday\, May 4\, 2024 7:30 PM</span><br />\n<span style="font-family:arial\,sans-serif\; font-size:11pt">(Gates open at 6:30 PM for General Admission)</span></p>\n\n<p><strong>LOCATION</strong><br />\n<span style="font-family:arial\,sans-serif\; font-size:11pt">Henry George Bluff Park\, Fairhope\, Alabama</span></p>\n\n<p><strong>TO PURCHASE TICKETS</strong><br />\n<a href="https://www.easternshorerep.org/" style="text-decoration-line: none\;"><span style="color:rgb(17\, 85\, 204)\; font-family:arial\,sans-serif\; font-size:11pt">https://www.easternshorerep.org/</span></a></p>\n\n<p><strong>ABOUT ESRT</strong></p>\n\n<p><span style="background-color:transparent\; color:rgb(0\, 24\, 55)\; font-family:arial\,sans-serif\; font-size:11pt">Founded in 2012\, Eastern Shore Repertory Theatre provides innovative\, high-quality theatre experiences for the Eastern Shore community\, including musical theatre summer camps\, dance and musical theatre classes\, participation in Junior Theater Festival\, the world&rsquo\;s largest musical theater festival for young people\, and two major productions each year. ESRT productions entertain approximately 15\,000 audience members annually and include the fall show which features a cast of 70-80 area students aged from 3rd-12th grade and the popular Theatre on the Bluff held each spring featuring performers of all ages.</span></p>\n\n<div>&nbsp\;</div>\n
LOCATION:Henry George Bluff Park\, Fairhope\, Alabama
UID:e.1304.30114
SEQUENCE:3
DTSTAMP:20260425T233725Z
URL:http://business.eschamber.org/events/details/cats-now-reimagined-for-theatre-on-the-bluff-05-04-2024-30114
END:VEVENT

END:VCALENDAR
