BEGIN:VCALENDAR
VERSION:2.0
PRODID:-//ChamberMaster//Event Calendar 2.0//EN
METHOD:PUBLISH
X-PUBLISHED-TTL:P3D
REFRESH-INTERVAL:P3D
CALSCALE:GREGORIAN
BEGIN:VEVENT
DTSTART:20241003T230000Z
DTEND:20241004T020000Z
X-MICROSOFT-CDO-ALLDAYEVENT:FALSE
SUMMARY:CCA Alabama Eastern Shore Fall Out
DESCRIPTION:Presented by D R Horton.  There will be a live auction\, silent auction and raffles.  Tickets include dinner\, full bar & 12 months CCA membership.
X-ALT-DESC;FMTTYPE=text/html:Presented by D R Horton.&nbsp\; There will be a live auction\, silent auction and raffles.&nbsp\; Tickets include dinner\, full bar &amp\; 12 months CCA membership.
LOCATION:Oak Hollow Farm\, Fairhope\, AL
UID:e.1304.34159
SEQUENCE:3
DTSTAMP:20260425T164635Z
URL:http://business.eschamber.org/events/details/cca-alabama-eastern-shore-fall-out-34159
END:VEVENT

END:VCALENDAR
