BEGIN:VCALENDAR
VERSION:2.0
PRODID:-//ChamberMaster//Event Calendar 2.0//EN
METHOD:PUBLISH
X-PUBLISHED-TTL:P3D
REFRESH-INTERVAL:P3D
CALSCALE:GREGORIAN
BEGIN:VEVENT
DTSTART:20241102T000000Z
DTEND:20241102T020000Z
X-MICROSOFT-CDO-ALLDAYEVENT:FALSE
SUMMARY:Central Gulf Coast Harp Society concert
DESCRIPTION:Central Gulf Coast Harp Society presents Kaitlin Miller\, harpist.\n\nThis is part of the St. James Concert series\,
X-ALT-DESC;FMTTYPE=text/html:Central Gulf Coast Harp Society presents Kaitlin Miller\, harpist.<br />\nThis is part of the St. James Concert series\,
LOCATION:St. James Episcopal Church\, 860 N. Section Street\, Fairhope\, AL
UID:e.1304.35810
SEQUENCE:3
DTSTAMP:20260425T153003Z
URL:http://business.eschamber.org/events/details/central-gulf-coast-harp-society-concert-35810
END:VEVENT

END:VCALENDAR
