BEGIN:VCALENDAR
VERSION:2.0
PRODID:-//ChamberMaster//Event Calendar 2.0//EN
METHOD:PUBLISH
X-PUBLISHED-TTL:P3D
REFRESH-INTERVAL:P3D
CALSCALE:GREGORIAN
BEGIN:VEVENT
DTSTART:20240821T140000Z
DTEND:20240821T153000Z
X-MICROSOFT-CDO-ALLDAYEVENT:FALSE
SUMMARY:Chamber 101: August 2024
DESCRIPTION:Chamber 101 is a one-hour class offered each month for members to learn how to best use their Chamber benefits & navigate their online directory listing.
X-ALT-DESC;FMTTYPE=text/html:Chamber 101 is a one-hour class offered each month for members to learn how to best use their Chamber benefits &amp\; navigate their online directory listing.
LOCATION:Chamber 101 will be held at the Eastern Shore Chamber of Commerce office\, 327 Fairhope Ave.\, Fairhope\, AL.
UID:e.1304.34147
SEQUENCE:3
DTSTAMP:20260425T192942Z
URL:http://business.eschamber.org/events/details/chamber-101-august-2024-34147
END:VEVENT

END:VCALENDAR
