BEGIN:VCALENDAR
VERSION:2.0
PRODID:-//ChamberMaster//Event Calendar 2.0//EN
METHOD:PUBLISH
X-PUBLISHED-TTL:P3D
REFRESH-INTERVAL:P3D
CALSCALE:GREGORIAN
BEGIN:VEVENT
DTSTART:20260225T150000Z
DTEND:20260225T163000Z
X-MICROSOFT-CDO-ALLDAYEVENT:FALSE
SUMMARY:Chamber 101 (Virtual): February 2026
DESCRIPTION:Chamber 101 is a one-hour class offered each month for members to learn how to best use their Chamber benefits & navigate their online directory listing.\n\n\n\nThe Eastern Shore Chamber is inviting you to a scheduled Zoom meeting.\n\n\n\nTopic: Virtual Chamber 101 - February 25th 2026\n\nTime: February 25th 2026 09:00 AM Central Time (US and Canada)\n\nJoin Zoom Meeting\n\nhttps://us02web.zoom.us/j/82619152950
X-ALT-DESC;FMTTYPE=text/html:<span style="color: rgb(68\, 68\, 68)\; font-family: Khmer\, sans-serif\; font-size: 16px\;">Chamber 101 is a one-hour class offered each month for members to learn how to best use their Chamber benefits &amp\; navigate their online directory listing.</span><br />\n<br />\n<font color="#444444" face="Khmer\, sans-serif"><span style="font-size: 16px\;">The Eastern Shore Chamber&nbsp\;</span></font>is inviting you to a scheduled Zoom meeting.<br />\n<br />\nTopic: Virtual Chamber 101 - February 25th 2026<br />\nTime: February 25th 2026 09:00 AM Central Time (US and Canada)<br />\nJoin Zoom Meeting<br />\n<strong><a href="https://us02web.zoom.us/j/82619152950">https://us02web.zoom.us/j/82619152950</a></strong>
LOCATION:Chamber 101 will be held virtually on zoom (link in the description)
UID:e.1304.39792
SEQUENCE:3
DTSTAMP:20260422T120704Z
URL:http://business.eschamber.org/events/details/chamber-101-february-2026-39792
END:VEVENT

END:VCALENDAR
