BEGIN:VCALENDAR
VERSION:2.0
PRODID:-//ChamberMaster//Event Calendar 2.0//EN
METHOD:PUBLISH
X-PUBLISHED-TTL:P3D
REFRESH-INTERVAL:P3D
CALSCALE:GREGORIAN
BEGIN:VEVENT
DTSTART:20240222T160000Z
DTEND:20240222T230000Z
X-MICROSOFT-CDO-ALLDAYEVENT:FALSE
SUMMARY:Christian College Fair
DESCRIPTION:You are invited to join us for our inaugural Christian College Fair!  Our team has meticulously vetted and curated a list of exceptional Christian colleges that are committed to providing a nurturing and academically enriching environment.  This fair is a unique opportunity for you to explore a variety of institutions that share a common foundation in faith\, values\, and academic excellence.
X-ALT-DESC;FMTTYPE=text/html:You are invited to join us for our inaugural Christian College Fair!&nbsp\; Our team has meticulously vetted and curated a list of exceptional Christian colleges that are committed to providing a nurturing and academically enriching environment.&nbsp\; This fair is a unique opportunity for you to explore a variety of institutions that share a common foundation in faith\, values\, and academic excellence.
LOCATION:Fairhope Civic Center 161 North Section Street Fairhope\, AL 36532
UID:e.1304.29971
SEQUENCE:3
DTSTAMP:20260426T034431Z
URL:http://business.eschamber.org/events/details/christian-college-fair-29971
END:VEVENT

END:VCALENDAR
