BEGIN:VCALENDAR
VERSION:2.0
PRODID:-//ChamberMaster//Event Calendar 2.0//EN
METHOD:PUBLISH
X-PUBLISHED-TTL:P3D
REFRESH-INTERVAL:P3D
CALSCALE:GREGORIAN
BEGIN:VEVENT
DTSTART:20241215T203000Z
DTEND:20241215T220000Z
X-MICROSOFT-CDO-ALLDAYEVENT:FALSE
SUMMARY:Christmas Around the World!
DESCRIPTION:Celebrate your holidays with the MSO! We explore Christmas music and traditions from far away and close to home. This festive concert features baritone Ricardo Jos  Rivera who joined us for our holiday concert in 2021. Don't miss the Gulf Coast's favorite holiday concert!
X-ALT-DESC;FMTTYPE=text/html:Celebrate your holidays with the MSO! We explore Christmas music and traditions from far away and close to home. This festive concert features baritone Ricardo Jos&eacute\; Rivera who joined us for our holiday concert in 2021. Don&#39\;t miss the Gulf Coast&rsquo\;s favorite holiday concert!
LOCATION:Saenger Theater 6 S Joachim Street Mobile\, AL 36602
UID:e.1304.32575
SEQUENCE:3
DTSTAMP:20260425T123643Z
URL:http://business.eschamber.org/events/details/christmas-around-the-world-32575
END:VEVENT

END:VCALENDAR
